BEGIN:VCALENDAR
VERSION:2.0
PRODID:-//Quality Divers - ECPv6.15.20//NONSGML v1.0//EN
CALSCALE:GREGORIAN
METHOD:PUBLISH
X-WR-CALNAME:Quality Divers
X-ORIGINAL-URL:https://quality-divers.nl
X-WR-CALDESC:Evenementen voor Quality Divers
REFRESH-INTERVAL;VALUE=DURATION:PT1H
X-Robots-Tag:noindex
X-PUBLISHED-TTL:PT1H
BEGIN:VTIMEZONE
TZID:Europe/Paris
BEGIN:DAYLIGHT
TZOFFSETFROM:+0100
TZOFFSETTO:+0200
TZNAME:CEST
DTSTART:20240331T010000
END:DAYLIGHT
BEGIN:STANDARD
TZOFFSETFROM:+0200
TZOFFSETTO:+0100
TZNAME:CET
DTSTART:20241027T010000
END:STANDARD
BEGIN:DAYLIGHT
TZOFFSETFROM:+0100
TZOFFSETTO:+0200
TZNAME:CEST
DTSTART:20250330T010000
END:DAYLIGHT
BEGIN:STANDARD
TZOFFSETFROM:+0200
TZOFFSETTO:+0100
TZNAME:CET
DTSTART:20251026T010000
END:STANDARD
BEGIN:DAYLIGHT
TZOFFSETFROM:+0100
TZOFFSETTO:+0200
TZNAME:CEST
DTSTART:20260329T010000
END:DAYLIGHT
BEGIN:STANDARD
TZOFFSETFROM:+0200
TZOFFSETTO:+0100
TZNAME:CET
DTSTART:20261025T010000
END:STANDARD
BEGIN:DAYLIGHT
TZOFFSETFROM:+0100
TZOFFSETTO:+0200
TZNAME:CEST
DTSTART:20270328T010000
END:DAYLIGHT
BEGIN:STANDARD
TZOFFSETFROM:+0200
TZOFFSETTO:+0100
TZNAME:CET
DTSTART:20271031T010000
END:STANDARD
END:VTIMEZONE
BEGIN:VEVENT
DTSTART;TZID=Europe/Paris:20260406T100000
DTEND;TZID=Europe/Paris:20260406T143000
DTSTAMP:20260425T192118
CREATED:20260202T213725Z
LAST-MODIFIED:20260202T213738Z
UID:3727-1775469600-1775485800@quality-divers.nl
SUMMARY:Lenteduik
DESCRIPTION:Verzamelen om 10:00 bij Parking Kanters \nDuikleider: Maureen \n 
URL:https://quality-divers.nl/duikrooster/lenteduik/
LOCATION:Den Osse Meeuwestein (14)\, Kerkweg 4\, Brouwershaven\, Zeeland\, 4318 TT\, Netherlands
CATEGORIES:Clubduik
END:VEVENT
BEGIN:VEVENT
DTSTART;TZID=Europe/Paris:20260301T090000
DTEND;TZID=Europe/Paris:20260301T150000
DTSTAMP:20260425T192118
CREATED:20250716T094910Z
LAST-MODIFIED:20260111T155013Z
UID:3572-1772355600-1772377200@quality-divers.nl
SUMMARY:TODI
DESCRIPTION:Definitieve dag dat we TODI gaan bezoeken. We worden verwacht om 11:00 tot 13:00. Dat betekent dat we na afloop ergens kunnen gaan lunchen voor degene die dat willen. \nDat is om 11:00 richting het water en om 13:00 moeten we buiten staan. \nDetails over vertrek en aanmelden volgen nog. Waarschijnlijk vertrekken we om 9:30.
URL:https://quality-divers.nl/duikrooster/todi-o-v-b/
LOCATION:TODI\, b-MINE 3582\, Beringen\, Belgium
CATEGORIES:Clubduik
END:VEVENT
BEGIN:VEVENT
DTSTART;TZID=Europe/Paris:20260222T103000
DTEND;TZID=Europe/Paris:20260222T140000
DTSTAMP:20260425T192118
CREATED:20260202T213547Z
LAST-MODIFIED:20260204T091242Z
UID:3725-1771756200-1771768800@quality-divers.nl
SUMMARY:Anemoon winterduik huisrif
DESCRIPTION:10:30 Verzamelen Parking spuitendonk (A58) \n11:15 ter plaatse \nKentering 12:38 HW \nDuikleider: Marice \n 
URL:https://quality-divers.nl/duikrooster/anemoon-winterduik-huisrif/
LOCATION:Stavenisse Haven (77)\, Veerweg\, Stavenisse\, Netherlands
CATEGORIES:Clubduik
END:VEVENT
BEGIN:VEVENT
DTSTART;TZID=Europe/Paris:20251026T100000
DTEND;TZID=Europe/Paris:20251026T150000
DTSTAMP:20260425T192118
CREATED:20250716T093722Z
LAST-MODIFIED:20250716T093926Z
UID:3564-1761472800-1761490800@quality-divers.nl
SUMMARY:Bikkelduik 2025 / Anemoonduik(herfst)
DESCRIPTION:De afsluitende clubduik van het duikseizoen 2025. \nDuikleider: Edwin \nKentering: 11:55 HW \nVerzamelen om 10:00 bij parking Spuitendonk langs de A58
URL:https://quality-divers.nl/duikrooster/bikkelduik-anemoonduikherfst/
LOCATION:Stavenisse Haven (77)\, Veerweg\, Stavenisse\, Netherlands
CATEGORIES:Clubduik
END:VEVENT
BEGIN:VEVENT
DTSTART;TZID=Europe/Paris:20251012T113000
DTEND;TZID=Europe/Paris:20251012T150000
DTSTAMP:20260425T192118
CREATED:20250716T093445Z
LAST-MODIFIED:20250716T094125Z
UID:3561-1760268600-1760281200@quality-divers.nl
SUMMARY:Clubduik Goese Sas
DESCRIPTION:Duikleider: Julian \nom 11:30 verzamelen bij Parking Spuitendonk langs de A58 \nKentering: 13:41 LW \n\nGoese Sas\, ook Sas van Goes genoemd\, is ooit door Readers Digest gekenmerkt als een van de tien mooiste duikstekken ter wereld! Oude dijkstructuren vormen hier een glooiend landschap\, dat volledig begroeid is met leven. Bij Goese Sas komen geregeld zeldzame soorten voor zoals zeepaardjes en diverse zeldzame zeenaaktslakken. Goese Sas staat ook bekend om de sepia’s en pijlinktvissen. \n\nBijzonderheden\nGoese Sas ligt aan de noordkant van het kanaal dat de stad Goes met de Oosterschelde verbindt. Je gaat te water vanaf een van de trappen. Onder water heb je de stek nagenoeg voor jezelf. Het mooiste gedeelte bevindt zich tussen de 5 en 15 meter. In april en mei komen hier ook sepia’s en pijlinktvissen. Je spot ze links van de landtong (zie kaartje). \nWaarschuwingen\nBij Goese Sas heb je vaak te maken met wisselend zicht. Duik hier niet bij noordelijke tot noordoostelijke wind sterker dan windkracht 3. Zeer onregelmatige bodemstructuur\, vertrouw op je kompas.
URL:https://quality-divers.nl/duikrooster/clubduik-goese-sas/
LOCATION:Goese Sas (63)\, Het Sas Wilhelminadorp\, Goes\, Zeeland\, Netherlands
CATEGORIES:Clubduik
END:VEVENT
BEGIN:VEVENT
DTSTART;TZID=Europe/Paris:20250927T200000
DTEND;TZID=Europe/Paris:20250927T230000
DTSTAMP:20260425T192118
CREATED:20250716T093046Z
LAST-MODIFIED:20250716T093046Z
UID:3559-1759003200-1759014000@quality-divers.nl
SUMMARY:Tapasduik (schemer/nacht)
DESCRIPTION:Onze traditionele tapasduik\, onstaan als voorbereiding op een clubreis naar Spanje en sindsdien in ere gehouden. De bedoeling is dat iedereen iets van een  gerechtje (b.v. tapas) meeneemt om te delen met de aanwezigen. Zodoende maken we er een gezellige avond van. \nLocatie: Dreischor Frans Kokrif \nOm 20:00 ter plaatse verzamelen \nDuikleider: Huub \nKentering: n.v.t.
URL:https://quality-divers.nl/duikrooster/tapasduik-schemer-nacht/
LOCATION:Dreischor FKR (5)\, Zuid Langeweg\, Dreischor\, Zeeland\, 4315 PH\, Netherlands
END:VEVENT
BEGIN:VEVENT
DTSTART;TZID=Europe/Paris:20250831T123000
DTEND;TZID=Europe/Paris:20250831T163000
DTSTAMP:20260425T192118
CREATED:20250716T092610Z
LAST-MODIFIED:20250716T092610Z
UID:3556-1756643400-1756657800@quality-divers.nl
SUMMARY:Anemoonduik zomer
DESCRIPTION:De zomereditie van de anemoonduik op ons huisrif. We gaan weer soorten tellen. \nDuikleider: n.n.b. \nKentering is om 14:38 LW \nVerzamelen om 12:30 bij Parking Spuitendonk\, langs de A58.
URL:https://quality-divers.nl/duikrooster/anemoonduik-zomer/
LOCATION:Stavenisse Haven (77)\, Veerweg\, Stavenisse\, Netherlands
CATEGORIES:Clubduik
END:VEVENT
BEGIN:VEVENT
DTSTART;TZID=Europe/Paris:20250828T193000
DTEND;TZID=Europe/Paris:20250828T213000
DTSTAMP:20260425T192118
CREATED:20250716T092317Z
LAST-MODIFIED:20250821T120623Z
UID:3554-1756409400-1756416600@quality-divers.nl
SUMMARY:Buitenduik AJP i.p.v. zembadtraining
DESCRIPTION:Vanwege het goede weer\, en lang zonlicht ook op deze avond geen zwembadtraining maar een buitenduik. In dit geval gaan we naar de Bergse Diepsluis. \nKentering is om 18:49 HW \nDuikleider: Edwin ?
URL:https://quality-divers.nl/duikrooster/buitenduik-bds-i-p-v-zembadtraining/
LOCATION:Anna Jacobapolder (72)\, Rijksweg 5\, Sint Philipsland\, Zeeland\, 4675 RB\, Netherlands
CATEGORIES:Clubduik,Zwembadtraining
END:VEVENT
BEGIN:VEVENT
DTSTART;TZID=Europe/Paris:20250821T193000
DTEND;TZID=Europe/Paris:20250821T213000
DTSTAMP:20260425T192118
CREATED:20250716T092024Z
LAST-MODIFIED:20250821T120743Z
UID:3552-1755804600-1755811800@quality-divers.nl
SUMMARY:Buitenduik Bergse DiepSluis i.p.v. zwembadtraining
DESCRIPTION:I.p.v. een zwembad training gaan we een buitenduik maken bij Anna Jacobapolder (AJP) \nVerzamelen in om 19:30 ter plaatse \n‘Duikleider’ is Marice Bastiaensen \nLW kentering is om 21:39
URL:https://quality-divers.nl/duikrooster/buitenduik-ajp-i-p-v-zwembadtraining/
LOCATION:Bergse Diepsluis (81)\, Veerweg\, Tholen\, Netherlands
CATEGORIES:Clubduik
END:VEVENT
END:VCALENDAR