BEGIN:VCALENDAR
VERSION:2.0
PRODID:-//Quality Divers - ECPv6.15.20//NONSGML v1.0//EN
CALSCALE:GREGORIAN
METHOD:PUBLISH
X-ORIGINAL-URL:https://quality-divers.nl
X-WR-CALDESC:Evenementen voor Quality Divers
REFRESH-INTERVAL;VALUE=DURATION:PT1H
X-Robots-Tag:noindex
X-PUBLISHED-TTL:PT1H
BEGIN:VTIMEZONE
TZID:Europe/Paris
BEGIN:DAYLIGHT
TZOFFSETFROM:+0100
TZOFFSETTO:+0200
TZNAME:CEST
DTSTART:20250330T010000
END:DAYLIGHT
BEGIN:STANDARD
TZOFFSETFROM:+0200
TZOFFSETTO:+0100
TZNAME:CET
DTSTART:20251026T010000
END:STANDARD
BEGIN:DAYLIGHT
TZOFFSETFROM:+0100
TZOFFSETTO:+0200
TZNAME:CEST
DTSTART:20260329T010000
END:DAYLIGHT
BEGIN:STANDARD
TZOFFSETFROM:+0200
TZOFFSETTO:+0100
TZNAME:CET
DTSTART:20261025T010000
END:STANDARD
BEGIN:DAYLIGHT
TZOFFSETFROM:+0100
TZOFFSETTO:+0200
TZNAME:CEST
DTSTART:20270328T010000
END:DAYLIGHT
BEGIN:STANDARD
TZOFFSETFROM:+0200
TZOFFSETTO:+0100
TZNAME:CET
DTSTART:20271031T010000
END:STANDARD
END:VTIMEZONE
BEGIN:VEVENT
DTSTART;TZID=Europe/Paris:20260301T090000
DTEND;TZID=Europe/Paris:20260301T150000
DTSTAMP:20260425T205707
CREATED:20250716T094910Z
LAST-MODIFIED:20260111T155013Z
UID:3572-1772355600-1772377200@quality-divers.nl
SUMMARY:TODI
DESCRIPTION:Definitieve dag dat we TODI gaan bezoeken. We worden verwacht om 11:00 tot 13:00. Dat betekent dat we na afloop ergens kunnen gaan lunchen voor degene die dat willen. \nDat is om 11:00 richting het water en om 13:00 moeten we buiten staan. \nDetails over vertrek en aanmelden volgen nog. Waarschijnlijk vertrekken we om 9:30.
URL:https://quality-divers.nl/duikrooster/todi-o-v-b/
LOCATION:TODI\, b-MINE 3582\, Beringen\, Belgium
CATEGORIES:Clubduik
END:VEVENT
END:VCALENDAR