BEGIN:VCALENDAR
VERSION:2.0
PRODID:-//Quality Divers - ECPv6.15.20//NONSGML v1.0//EN
CALSCALE:GREGORIAN
METHOD:PUBLISH
X-ORIGINAL-URL:https://quality-divers.nl
X-WR-CALDESC:Evenementen voor Quality Divers
REFRESH-INTERVAL;VALUE=DURATION:PT1H
X-Robots-Tag:noindex
X-PUBLISHED-TTL:PT1H
BEGIN:VTIMEZONE
TZID:Europe/Amsterdam
BEGIN:DAYLIGHT
TZOFFSETFROM:+0100
TZOFFSETTO:+0200
TZNAME:CEST
DTSTART:20250330T010000
END:DAYLIGHT
BEGIN:STANDARD
TZOFFSETFROM:+0200
TZOFFSETTO:+0100
TZNAME:CET
DTSTART:20251026T010000
END:STANDARD
BEGIN:DAYLIGHT
TZOFFSETFROM:+0100
TZOFFSETTO:+0200
TZNAME:CEST
DTSTART:20260329T010000
END:DAYLIGHT
BEGIN:STANDARD
TZOFFSETFROM:+0200
TZOFFSETTO:+0100
TZNAME:CET
DTSTART:20261025T010000
END:STANDARD
BEGIN:DAYLIGHT
TZOFFSETFROM:+0100
TZOFFSETTO:+0200
TZNAME:CEST
DTSTART:20270328T010000
END:DAYLIGHT
BEGIN:STANDARD
TZOFFSETFROM:+0200
TZOFFSETTO:+0100
TZNAME:CET
DTSTART:20271031T010000
END:STANDARD
END:VTIMEZONE
BEGIN:VTIMEZONE
TZID:Europe/Paris
BEGIN:DAYLIGHT
TZOFFSETFROM:+0100
TZOFFSETTO:+0200
TZNAME:CEST
DTSTART:20250330T010000
END:DAYLIGHT
BEGIN:STANDARD
TZOFFSETFROM:+0200
TZOFFSETTO:+0100
TZNAME:CET
DTSTART:20251026T010000
END:STANDARD
BEGIN:DAYLIGHT
TZOFFSETFROM:+0100
TZOFFSETTO:+0200
TZNAME:CEST
DTSTART:20260329T010000
END:DAYLIGHT
BEGIN:STANDARD
TZOFFSETFROM:+0200
TZOFFSETTO:+0100
TZNAME:CET
DTSTART:20261025T010000
END:STANDARD
BEGIN:DAYLIGHT
TZOFFSETFROM:+0100
TZOFFSETTO:+0200
TZNAME:CEST
DTSTART:20270328T010000
END:DAYLIGHT
BEGIN:STANDARD
TZOFFSETFROM:+0200
TZOFFSETTO:+0100
TZNAME:CET
DTSTART:20271031T010000
END:STANDARD
END:VTIMEZONE
BEGIN:VEVENT
DTSTART;TZID=Europe/Amsterdam:20260305T211500
DTEND;TZID=Europe/Amsterdam:20260305T221500
DTSTAMP:20260425T193253
CREATED:20250830T140708Z
LAST-MODIFIED:20250830T140709Z
UID:3648-1772745300-1772748900@quality-divers.nl
SUMMARY:Persluchttraining
DESCRIPTION:Trainer: Maureen
URL:https://quality-divers.nl/duikrooster/persluchttraining-32/
LOCATION:Zwembad de Wisselaar\, Terheijdenseweg 494\, Breda\, Noord-Brabant\, 4826 AB
CATEGORIES:Zwembadtraining
END:VEVENT
BEGIN:VEVENT
DTSTART;TZID=Europe/Amsterdam:20260312T211500
DTEND;TZID=Europe/Amsterdam:20260312T221500
DTSTAMP:20260425T193253
CREATED:20250830T134404Z
LAST-MODIFIED:20260309T181732Z
UID:3598-1773350100-1773353700@quality-divers.nl
SUMMARY:Snorkeltraining
DESCRIPTION:Trainer: Marice
URL:https://quality-divers.nl/duikrooster/snorkeltraining-3/
LOCATION:Zwembad de Wisselaar\, Terheijdenseweg 494\, Breda\, Noord-Brabant\, 4826 AB
CATEGORIES:Zwembadtraining
END:VEVENT
BEGIN:VEVENT
DTSTART;TZID=Europe/Paris:20260319T211500
DTEND;TZID=Europe/Paris:20260319T221500
DTSTAMP:20260425T193253
CREATED:20250830T133911Z
LAST-MODIFIED:20260309T181907Z
UID:3590-1773954900-1773958500@quality-divers.nl
SUMMARY:Persluchttraining
DESCRIPTION:Trainer: Huub
URL:https://quality-divers.nl/duikrooster/persluchttraining-6/
LOCATION:Zwembad de Wisselaar\, Terheijdenseweg 494\, Breda\, Noord-Brabant\, 4826 AB
CATEGORIES:Zwembadtraining
END:VEVENT
BEGIN:VEVENT
DTSTART;TZID=Europe/Amsterdam:20260326T211500
DTEND;TZID=Europe/Amsterdam:20260326T221500
DTSTAMP:20260425T193253
CREATED:20250830T135105Z
LAST-MODIFIED:20250830T135105Z
UID:3616-1774559700-1774563300@quality-divers.nl
SUMMARY:Persluchttraining
DESCRIPTION:Trainer: Julian
URL:https://quality-divers.nl/duikrooster/persluchttraining-13/
LOCATION:Zwembad de Wisselaar\, Terheijdenseweg 494\, Breda\, Noord-Brabant\, 4826 AB
CATEGORIES:Zwembadtraining
END:VEVENT
BEGIN:VEVENT
DTSTART;TZID=Europe/Paris:20260328T170000
DTEND;TZID=Europe/Paris:20260328T190000
DTSTAMP:20260425T193253
CREATED:20260322T103155Z
LAST-MODIFIED:20260322T103155Z
UID:3782-1774717200-1774724400@quality-divers.nl
SUMMARY:Nettentraining samen met Argonauta
DESCRIPTION: 
URL:https://quality-divers.nl/duikrooster/nettentraining-samen-met-argonauta/
LOCATION:Zwembad de Wisselaar\, Terheijdenseweg 494\, Breda\, Noord-Brabant\, 4826 AB
CATEGORIES:Zwembadtraining
END:VEVENT
END:VCALENDAR