BEGIN:VCALENDAR
VERSION:2.0
PRODID:-//Quality Divers - ECPv6.15.20//NONSGML v1.0//EN
CALSCALE:GREGORIAN
METHOD:PUBLISH
X-WR-CALNAME:Quality Divers
X-ORIGINAL-URL:https://quality-divers.nl
X-WR-CALDESC:Evenementen voor Quality Divers
REFRESH-INTERVAL;VALUE=DURATION:PT1H
X-Robots-Tag:noindex
X-PUBLISHED-TTL:PT1H
BEGIN:VTIMEZONE
TZID:Europe/Paris
BEGIN:DAYLIGHT
TZOFFSETFROM:+0100
TZOFFSETTO:+0200
TZNAME:CEST
DTSTART:20240331T010000
END:DAYLIGHT
BEGIN:STANDARD
TZOFFSETFROM:+0200
TZOFFSETTO:+0100
TZNAME:CET
DTSTART:20241027T010000
END:STANDARD
BEGIN:DAYLIGHT
TZOFFSETFROM:+0100
TZOFFSETTO:+0200
TZNAME:CEST
DTSTART:20250330T010000
END:DAYLIGHT
BEGIN:STANDARD
TZOFFSETFROM:+0200
TZOFFSETTO:+0100
TZNAME:CET
DTSTART:20251026T010000
END:STANDARD
BEGIN:DAYLIGHT
TZOFFSETFROM:+0100
TZOFFSETTO:+0200
TZNAME:CEST
DTSTART:20260329T010000
END:DAYLIGHT
BEGIN:STANDARD
TZOFFSETFROM:+0200
TZOFFSETTO:+0100
TZNAME:CET
DTSTART:20261025T010000
END:STANDARD
END:VTIMEZONE
BEGIN:VTIMEZONE
TZID:Europe/Amsterdam
BEGIN:DAYLIGHT
TZOFFSETFROM:+0100
TZOFFSETTO:+0200
TZNAME:CEST
DTSTART:20240331T010000
END:DAYLIGHT
BEGIN:STANDARD
TZOFFSETFROM:+0200
TZOFFSETTO:+0100
TZNAME:CET
DTSTART:20241027T010000
END:STANDARD
BEGIN:DAYLIGHT
TZOFFSETFROM:+0100
TZOFFSETTO:+0200
TZNAME:CEST
DTSTART:20250330T010000
END:DAYLIGHT
BEGIN:STANDARD
TZOFFSETFROM:+0200
TZOFFSETTO:+0100
TZNAME:CET
DTSTART:20251026T010000
END:STANDARD
BEGIN:DAYLIGHT
TZOFFSETFROM:+0100
TZOFFSETTO:+0200
TZNAME:CEST
DTSTART:20260329T010000
END:DAYLIGHT
BEGIN:STANDARD
TZOFFSETFROM:+0200
TZOFFSETTO:+0100
TZNAME:CET
DTSTART:20261025T010000
END:STANDARD
END:VTIMEZONE
BEGIN:VEVENT
DTSTART;TZID=Europe/Paris:20251002T211500
DTEND;TZID=Europe/Paris:20251002T221500
DTSTAMP:20260426T034346
CREATED:20250830T133646Z
LAST-MODIFIED:20250830T142253Z
UID:3584-1759439700-1759443300@quality-divers.nl
SUMMARY:Persluchttraining
DESCRIPTION:Trainer: Marice
URL:https://quality-divers.nl/duikrooster/persluchttraining-3/
LOCATION:Zwembad de Wisselaar\, Terheijdenseweg 494\, Breda\, Noord-Brabant\, 4826 AB
CATEGORIES:Zwembadtraining
END:VEVENT
BEGIN:VEVENT
DTSTART;TZID=Europe/Paris:20251009T211500
DTEND;TZID=Europe/Paris:20251009T221500
DTSTAMP:20260426T034346
CREATED:20250830T140151Z
LAST-MODIFIED:20250830T140151Z
UID:3636-1760044500-1760048100@quality-divers.nl
SUMMARY:Snorkeltraining
DESCRIPTION:Trainer: Julian
URL:https://quality-divers.nl/duikrooster/snorkeltraining-15/
LOCATION:Zwembad de Wisselaar\, Terheijdenseweg 494\, Breda\, Noord-Brabant\, 4826 AB
CATEGORIES:Zwembadtraining
END:VEVENT
BEGIN:VEVENT
DTSTART;VALUE=DATE:20251012
DTEND;VALUE=DATE:20251019
DTSTAMP:20260426T034346
CREATED:20250110T194037Z
LAST-MODIFIED:20250716T095612Z
UID:1743-1760227200-1760831999@quality-divers.nl
SUMMARY:Herfstvakantie 2025
DESCRIPTION:Geen zwembadtraining!
URL:https://quality-divers.nl/duikrooster/herfstvakantie/
LOCATION:Noord-Brabant
CATEGORIES:Zwembadtraining
END:VEVENT
BEGIN:VEVENT
DTSTART;TZID=Europe/Amsterdam:20251023T211500
DTEND;TZID=Europe/Amsterdam:20251023T221500
DTSTAMP:20260426T034346
CREATED:20250830T140448Z
LAST-MODIFIED:20251030T111733Z
UID:3642-1761254100-1761257700@quality-divers.nl
SUMMARY:Persluchttraining
DESCRIPTION:Trainer: Marice
URL:https://quality-divers.nl/duikrooster/persluchttraining-29/
LOCATION:Zwembad de Wisselaar\, Terheijdenseweg 494\, Breda\, Noord-Brabant\, 4826 AB
CATEGORIES:Zwembadtraining
END:VEVENT
BEGIN:VEVENT
DTSTART;TZID=Europe/Amsterdam:20251030T211500
DTEND;TZID=Europe/Amsterdam:20251030T221500
DTSTAMP:20260426T034346
CREATED:20250830T135411Z
LAST-MODIFIED:20250906T083935Z
UID:3620-1761858900-1761862500@quality-divers.nl
SUMMARY:Persluchttraining
DESCRIPTION:Trainer: Maureen
URL:https://quality-divers.nl/duikrooster/persluchttraining-24/
LOCATION:Zwembad de Wisselaar\, Terheijdenseweg 494\, Breda\, Noord-Brabant\, 4826 AB
CATEGORIES:Zwembadtraining
END:VEVENT
END:VCALENDAR