BEGIN:VCALENDAR
VERSION:2.0
PRODID:-//Quality Divers - ECPv6.15.20//NONSGML v1.0//EN
CALSCALE:GREGORIAN
METHOD:PUBLISH
X-WR-CALNAME:Quality Divers
X-ORIGINAL-URL:https://quality-divers.nl
X-WR-CALDESC:Evenementen voor Quality Divers
REFRESH-INTERVAL;VALUE=DURATION:PT1H
X-Robots-Tag:noindex
X-PUBLISHED-TTL:PT1H
BEGIN:VTIMEZONE
TZID:Europe/Amsterdam
BEGIN:DAYLIGHT
TZOFFSETFROM:+0100
TZOFFSETTO:+0200
TZNAME:CEST
DTSTART:20240331T010000
END:DAYLIGHT
BEGIN:STANDARD
TZOFFSETFROM:+0200
TZOFFSETTO:+0100
TZNAME:CET
DTSTART:20241027T010000
END:STANDARD
BEGIN:DAYLIGHT
TZOFFSETFROM:+0100
TZOFFSETTO:+0200
TZNAME:CEST
DTSTART:20250330T010000
END:DAYLIGHT
BEGIN:STANDARD
TZOFFSETFROM:+0200
TZOFFSETTO:+0100
TZNAME:CET
DTSTART:20251026T010000
END:STANDARD
BEGIN:DAYLIGHT
TZOFFSETFROM:+0100
TZOFFSETTO:+0200
TZNAME:CEST
DTSTART:20260329T010000
END:DAYLIGHT
BEGIN:STANDARD
TZOFFSETFROM:+0200
TZOFFSETTO:+0100
TZNAME:CET
DTSTART:20261025T010000
END:STANDARD
END:VTIMEZONE
BEGIN:VTIMEZONE
TZID:Europe/Paris
BEGIN:DAYLIGHT
TZOFFSETFROM:+0100
TZOFFSETTO:+0200
TZNAME:CEST
DTSTART:20240331T010000
END:DAYLIGHT
BEGIN:STANDARD
TZOFFSETFROM:+0200
TZOFFSETTO:+0100
TZNAME:CET
DTSTART:20241027T010000
END:STANDARD
BEGIN:DAYLIGHT
TZOFFSETFROM:+0100
TZOFFSETTO:+0200
TZNAME:CEST
DTSTART:20250330T010000
END:DAYLIGHT
BEGIN:STANDARD
TZOFFSETFROM:+0200
TZOFFSETTO:+0100
TZNAME:CET
DTSTART:20251026T010000
END:STANDARD
BEGIN:DAYLIGHT
TZOFFSETFROM:+0100
TZOFFSETTO:+0200
TZNAME:CEST
DTSTART:20260329T010000
END:DAYLIGHT
BEGIN:STANDARD
TZOFFSETFROM:+0200
TZOFFSETTO:+0100
TZNAME:CET
DTSTART:20261025T010000
END:STANDARD
END:VTIMEZONE
BEGIN:VEVENT
DTSTART;VALUE=DATE:20250705
DTEND;VALUE=DATE:20250818
DTSTAMP:20260426T062623
CREATED:20250110T191136Z
LAST-MODIFIED:20250403T084813Z
UID:1694-1751673600-1755475199@quality-divers.nl
SUMMARY:Zomervakantie
DESCRIPTION:Geen zwembadtraining!
URL:https://quality-divers.nl/duikrooster/zomervakantie/
LOCATION:Noord-Brabant
CATEGORIES:Zwembadtraining
END:VEVENT
BEGIN:VEVENT
DTSTART;TZID=Europe/Paris:20250828T193000
DTEND;TZID=Europe/Paris:20250828T213000
DTSTAMP:20260426T062623
CREATED:20250716T092317Z
LAST-MODIFIED:20250821T120623Z
UID:3554-1756409400-1756416600@quality-divers.nl
SUMMARY:Buitenduik AJP i.p.v. zembadtraining
DESCRIPTION:Vanwege het goede weer\, en lang zonlicht ook op deze avond geen zwembadtraining maar een buitenduik. In dit geval gaan we naar de Bergse Diepsluis. \nKentering is om 18:49 HW \nDuikleider: Edwin ?
URL:https://quality-divers.nl/duikrooster/buitenduik-bds-i-p-v-zembadtraining/
LOCATION:Anna Jacobapolder (72)\, Rijksweg 5\, Sint Philipsland\, Zeeland\, 4675 RB\, Netherlands
CATEGORIES:Clubduik,Zwembadtraining
END:VEVENT
END:VCALENDAR