BEGIN:VCALENDAR
VERSION:2.0
PRODID:-//Quality Divers - ECPv6.15.20//NONSGML v1.0//EN
CALSCALE:GREGORIAN
METHOD:PUBLISH
X-ORIGINAL-URL:https://quality-divers.nl
X-WR-CALDESC:Evenementen voor Quality Divers
REFRESH-INTERVAL;VALUE=DURATION:PT1H
X-Robots-Tag:noindex
X-PUBLISHED-TTL:PT1H
BEGIN:VTIMEZONE
TZID:Europe/Paris
BEGIN:DAYLIGHT
TZOFFSETFROM:+0100
TZOFFSETTO:+0200
TZNAME:CEST
DTSTART:20250330T010000
END:DAYLIGHT
BEGIN:STANDARD
TZOFFSETFROM:+0200
TZOFFSETTO:+0100
TZNAME:CET
DTSTART:20251026T010000
END:STANDARD
BEGIN:DAYLIGHT
TZOFFSETFROM:+0100
TZOFFSETTO:+0200
TZNAME:CEST
DTSTART:20260329T010000
END:DAYLIGHT
BEGIN:STANDARD
TZOFFSETFROM:+0200
TZOFFSETTO:+0100
TZNAME:CET
DTSTART:20261025T010000
END:STANDARD
BEGIN:DAYLIGHT
TZOFFSETFROM:+0100
TZOFFSETTO:+0200
TZNAME:CEST
DTSTART:20270328T010000
END:DAYLIGHT
BEGIN:STANDARD
TZOFFSETFROM:+0200
TZOFFSETTO:+0100
TZNAME:CET
DTSTART:20271031T010000
END:STANDARD
END:VTIMEZONE
BEGIN:VTIMEZONE
TZID:Europe/Amsterdam
BEGIN:DAYLIGHT
TZOFFSETFROM:+0100
TZOFFSETTO:+0200
TZNAME:CEST
DTSTART:20240331T010000
END:DAYLIGHT
BEGIN:STANDARD
TZOFFSETFROM:+0200
TZOFFSETTO:+0100
TZNAME:CET
DTSTART:20241027T010000
END:STANDARD
BEGIN:DAYLIGHT
TZOFFSETFROM:+0100
TZOFFSETTO:+0200
TZNAME:CEST
DTSTART:20250330T010000
END:DAYLIGHT
BEGIN:STANDARD
TZOFFSETFROM:+0200
TZOFFSETTO:+0100
TZNAME:CET
DTSTART:20251026T010000
END:STANDARD
BEGIN:DAYLIGHT
TZOFFSETFROM:+0100
TZOFFSETTO:+0200
TZNAME:CEST
DTSTART:20260329T010000
END:DAYLIGHT
BEGIN:STANDARD
TZOFFSETFROM:+0200
TZOFFSETTO:+0100
TZNAME:CET
DTSTART:20261025T010000
END:STANDARD
END:VTIMEZONE
BEGIN:VEVENT
DTSTART;TZID=Europe/Paris:20260418T090000
DTEND;TZID=Europe/Paris:20260418T170000
DTSTAMP:20260421T103607
CREATED:20260202T214046Z
LAST-MODIFIED:20260210T230445Z
UID:3732-1776502800-1776531600@quality-divers.nl
SUMMARY:EFR update & Oxygen provider
DESCRIPTION:verzorgd door Anton \n 
URL:https://quality-divers.nl/duikrooster/efr-update/
LOCATION:Noord-Brabant
CATEGORIES:Evenementen
END:VEVENT
BEGIN:VEVENT
DTSTART;TZID=Europe/Paris:20260409T200000
DTEND;TZID=Europe/Paris:20260409T210000
DTSTAMP:20260421T103607
CREATED:20260202T213944Z
LAST-MODIFIED:20260202T213944Z
UID:3730-1775764800-1775768400@quality-divers.nl
SUMMARY:Tilcursus deel 1 (zwembad)
DESCRIPTION:Edwin en Huub \nTilcursus deel 1 door Caroline
URL:https://quality-divers.nl/duikrooster/tilcursus-deel-1-zwembad/
LOCATION:Zwembad de Wisselaar\, Terheijdenseweg 494\, Breda\, Noord-Brabant\, 4826 AB
CATEGORIES:Evenementen,Zwembadtraining
END:VEVENT
BEGIN:VEVENT
DTSTART;TZID=Europe/Paris:20260207T100000
DTEND;TZID=Europe/Paris:20260207T120000
DTSTAMP:20260421T103607
CREATED:20250830T141956Z
LAST-MODIFIED:20250830T141956Z
UID:3666-1770458400-1770465600@quality-divers.nl
SUMMARY:ALV
DESCRIPTION:
URL:https://quality-divers.nl/duikrooster/alv/
LOCATION:Noord-Brabant
CATEGORIES:Evenementen
END:VEVENT
BEGIN:VEVENT
DTSTART;TZID=Europe/Amsterdam:20251122T180000
DTEND;TZID=Europe/Amsterdam:20251122T220000
DTSTAMP:20260421T103607
CREATED:20250125T101957Z
LAST-MODIFIED:20250930T065048Z
UID:2953-1763834400-1763848800@quality-divers.nl
SUMMARY:Blubquiz 2025
DESCRIPTION:Under construction ivm verplaatsen naar nieuwe datum/tijd. \n  \nEinde zomer organiseren we weer de traditionele nazomeractiviteit\, waarbij we een activiteit doen met wat drinken en eten. \nTijdens dit evenement reiken we een prijs voor beste foto en beste film onder de leden uit. De winnende foto en het winnende filmpje van afgelopen jaar staan hier. \n 
URL:https://quality-divers.nl/duikrooster/zomeractiviteit/
LOCATION:de Dobbelsteen\, Doelen 36\, Breda\, Noord-Brabant\, 4813 GR
CATEGORIES:Evenementen
END:VEVENT
BEGIN:VEVENT
DTSTART;TZID=Europe/Amsterdam:20251101T100000
DTEND;TZID=Europe/Amsterdam:20251101T170000
DTSTAMP:20260421T103607
CREATED:20250213T192925Z
LAST-MODIFIED:20250617T193248Z
UID:3516-1761991200-1762016400@quality-divers.nl
SUMMARY:ANEMOON-dag
DESCRIPTION:**SAVE THE DATE** \ntijdstip: vanaf 10:00 uur \nlocatie: Hilversum \n  \nMeer informatie: https://www.anemoon.org/anemoon-dag
URL:https://quality-divers.nl/duikrooster/anemoon-dag/
LOCATION:Hilversum
CATEGORIES:Evenementen
END:VEVENT
BEGIN:VEVENT
DTSTART;VALUE=DATE:20250905
DTEND;VALUE=DATE:20250908
DTSTAMP:20260421T103607
CREATED:20250110T192953Z
LAST-MODIFIED:20250403T084940Z
UID:1716-1757030400-1757289599@quality-divers.nl
SUMMARY:Seaturtle Weekend
DESCRIPTION:
URL:https://quality-divers.nl/duikrooster/seaturtle-weekend/
LOCATION:Schelphoek\, Serooskerkseweg 18\, Serooskerke Schouwen\, Zeeland\, 4327 SE\, Netherlands
CATEGORIES:Evenementen
END:VEVENT
END:VCALENDAR