BEGIN:VCALENDAR
VERSION:2.0
PRODID:-//Quality Divers - ECPv6.15.20//NONSGML v1.0//EN
CALSCALE:GREGORIAN
METHOD:PUBLISH
X-ORIGINAL-URL:https://quality-divers.nl
X-WR-CALDESC:Evenementen voor Quality Divers
REFRESH-INTERVAL;VALUE=DURATION:PT1H
X-Robots-Tag:noindex
X-PUBLISHED-TTL:PT1H
BEGIN:VTIMEZONE
TZID:Europe/Amsterdam
BEGIN:DAYLIGHT
TZOFFSETFROM:+0100
TZOFFSETTO:+0200
TZNAME:CEST
DTSTART:20240331T010000
END:DAYLIGHT
BEGIN:STANDARD
TZOFFSETFROM:+0200
TZOFFSETTO:+0100
TZNAME:CET
DTSTART:20241027T010000
END:STANDARD
BEGIN:DAYLIGHT
TZOFFSETFROM:+0100
TZOFFSETTO:+0200
TZNAME:CEST
DTSTART:20250330T010000
END:DAYLIGHT
BEGIN:STANDARD
TZOFFSETFROM:+0200
TZOFFSETTO:+0100
TZNAME:CET
DTSTART:20251026T010000
END:STANDARD
BEGIN:DAYLIGHT
TZOFFSETFROM:+0100
TZOFFSETTO:+0200
TZNAME:CEST
DTSTART:20260329T010000
END:DAYLIGHT
BEGIN:STANDARD
TZOFFSETFROM:+0200
TZOFFSETTO:+0100
TZNAME:CET
DTSTART:20261025T010000
END:STANDARD
END:VTIMEZONE
BEGIN:VEVENT
DTSTART;TZID=Europe/Amsterdam:20251101T100000
DTEND;TZID=Europe/Amsterdam:20251101T170000
DTSTAMP:20260425T130356
CREATED:20250213T192925Z
LAST-MODIFIED:20250617T193248Z
UID:3516-1761991200-1762016400@quality-divers.nl
SUMMARY:ANEMOON-dag
DESCRIPTION:**SAVE THE DATE** \ntijdstip: vanaf 10:00 uur \nlocatie: Hilversum \n  \nMeer informatie: https://www.anemoon.org/anemoon-dag
URL:https://quality-divers.nl/duikrooster/anemoon-dag/
LOCATION:Hilversum
CATEGORIES:Evenementen
END:VEVENT
BEGIN:VEVENT
DTSTART;TZID=Europe/Amsterdam:20251122T180000
DTEND;TZID=Europe/Amsterdam:20251122T220000
DTSTAMP:20260425T130356
CREATED:20250125T101957Z
LAST-MODIFIED:20250930T065048Z
UID:2953-1763834400-1763848800@quality-divers.nl
SUMMARY:Blubquiz 2025
DESCRIPTION:Under construction ivm verplaatsen naar nieuwe datum/tijd. \n  \nEinde zomer organiseren we weer de traditionele nazomeractiviteit\, waarbij we een activiteit doen met wat drinken en eten. \nTijdens dit evenement reiken we een prijs voor beste foto en beste film onder de leden uit. De winnende foto en het winnende filmpje van afgelopen jaar staan hier. \n 
URL:https://quality-divers.nl/duikrooster/zomeractiviteit/
LOCATION:de Dobbelsteen\, Doelen 36\, Breda\, Noord-Brabant\, 4813 GR
CATEGORIES:Evenementen
END:VEVENT
END:VCALENDAR