BEGIN:VCALENDAR
VERSION:2.0
PRODID:-//Quality Divers - ECPv6.15.20//NONSGML v1.0//EN
CALSCALE:GREGORIAN
METHOD:PUBLISH
X-ORIGINAL-URL:https://quality-divers.nl
X-WR-CALDESC:Evenementen voor Quality Divers
REFRESH-INTERVAL;VALUE=DURATION:PT1H
X-Robots-Tag:noindex
X-PUBLISHED-TTL:PT1H
BEGIN:VTIMEZONE
TZID:Europe/Paris
BEGIN:DAYLIGHT
TZOFFSETFROM:+0100
TZOFFSETTO:+0200
TZNAME:CEST
DTSTART:20250330T010000
END:DAYLIGHT
BEGIN:STANDARD
TZOFFSETFROM:+0200
TZOFFSETTO:+0100
TZNAME:CET
DTSTART:20251026T010000
END:STANDARD
BEGIN:DAYLIGHT
TZOFFSETFROM:+0100
TZOFFSETTO:+0200
TZNAME:CEST
DTSTART:20260329T010000
END:DAYLIGHT
BEGIN:STANDARD
TZOFFSETFROM:+0200
TZOFFSETTO:+0100
TZNAME:CET
DTSTART:20261025T010000
END:STANDARD
BEGIN:DAYLIGHT
TZOFFSETFROM:+0100
TZOFFSETTO:+0200
TZNAME:CEST
DTSTART:20270328T010000
END:DAYLIGHT
BEGIN:STANDARD
TZOFFSETFROM:+0200
TZOFFSETTO:+0100
TZNAME:CET
DTSTART:20271031T010000
END:STANDARD
END:VTIMEZONE
BEGIN:VEVENT
DTSTART;TZID=Europe/Paris:20260301T090000
DTEND;TZID=Europe/Paris:20260301T150000
DTSTAMP:20260425T230808
CREATED:20250716T094910Z
LAST-MODIFIED:20260111T155013Z
UID:3572-1772355600-1772377200@quality-divers.nl
SUMMARY:TODI
DESCRIPTION:Definitieve dag dat we TODI gaan bezoeken. We worden verwacht om 11:00 tot 13:00. Dat betekent dat we na afloop ergens kunnen gaan lunchen voor degene die dat willen. \nDat is om 11:00 richting het water en om 13:00 moeten we buiten staan. \nDetails over vertrek en aanmelden volgen nog. Waarschijnlijk vertrekken we om 9:30.
URL:https://quality-divers.nl/duikrooster/todi-o-v-b/
LOCATION:TODI\, b-MINE 3582\, Beringen\, Belgium
CATEGORIES:Clubduik
END:VEVENT
BEGIN:VEVENT
DTSTART;TZID=Europe/Paris:20260406T100000
DTEND;TZID=Europe/Paris:20260406T143000
DTSTAMP:20260425T230808
CREATED:20260202T213725Z
LAST-MODIFIED:20260202T213738Z
UID:3727-1775469600-1775485800@quality-divers.nl
SUMMARY:Lenteduik
DESCRIPTION:Verzamelen om 10:00 bij Parking Kanters \nDuikleider: Maureen \n 
URL:https://quality-divers.nl/duikrooster/lenteduik/
LOCATION:Den Osse Meeuwestein (14)\, Kerkweg 4\, Brouwershaven\, Zeeland\, 4318 TT\, Netherlands
CATEGORIES:Clubduik
END:VEVENT
BEGIN:VEVENT
DTSTART;TZID=Europe/Paris:20260425T090000
DTEND;TZID=Europe/Paris:20260425T130000
DTSTAMP:20260425T230808
CREATED:20260202T214248Z
LAST-MODIFIED:20260421T210902Z
UID:3734-1777107600-1777122000@quality-divers.nl
SUMMARY:Clubduik St Annaland
DESCRIPTION:Verzamelen om 9:00 bij Parking Spuitendonk (A58) \n9:30 ter plaatse \nDuikleider: Julian
URL:https://quality-divers.nl/duikrooster/clubduik-st-annaland/
LOCATION:St. Annaland (73)\, Nieuwlandseweg 52\, Sint-Annaland\, Zeeland\, 4697 RK\, Netherlands
CATEGORIES:Clubduik
END:VEVENT
BEGIN:VEVENT
DTSTART;TZID=Europe/Paris:20260509T080000
DTEND;TZID=Europe/Paris:20260509T170000
DTSTAMP:20260425T230808
CREATED:20260202T214533Z
LAST-MODIFIED:20260202T214533Z
UID:3738-1778313600-1778346000@quality-divers.nl
SUMMARY:Clubduik\, met tilcursus deel 2
DESCRIPTION:Verzamelen 10:00 bij Parking Spuitendonk \nTer plaatse 10:30 \nDuikleider: Edwin en Julian
URL:https://quality-divers.nl/duikrooster/clubduik-met-tilcursus-deel-2/
LOCATION:Bergse Diepsluis (81)\, Veerweg\, Tholen\, Netherlands
CATEGORIES:Clubduik
END:VEVENT
BEGIN:VEVENT
DTSTART;TZID=Europe/Paris:20260614T090000
DTEND;TZID=Europe/Paris:20260614T170000
DTSTAMP:20260425T230808
CREATED:20260202T215243Z
LAST-MODIFIED:20260202T215243Z
UID:3744-1781427600-1781456400@quality-divers.nl
SUMMARY:Zoetwaterplas (Beldert) (2x)
DESCRIPTION:9:00 vertrek bij de Wisselaar \n10:00 ter plaatse \n  \nDe Beldert\, Tiel \nhttps://www.duikersgids.nl/duikstekken/de-beldert
URL:https://quality-divers.nl/duikrooster/zoetwaterplas-beldert-2x/
LOCATION:de Beldert\, Zoelense Zandweg 1\, Zoelen/Tiel\, Gelderland\, Netherlands
CATEGORIES:Clubduik
END:VEVENT
BEGIN:VEVENT
DTSTART;TZID=Europe/Paris:20260702T200000
DTEND;TZID=Europe/Paris:20260702T210000
DTSTAMP:20260425T230808
CREATED:20260202T215543Z
LAST-MODIFIED:20260202T215543Z
UID:3747-1783022400-1783026000@quality-divers.nl
SUMMARY:Buitenduik (de Baars) ipv training in zwembad
DESCRIPTION:ter plaatse om 20:00 te water \nhttps://www.duikersgids.nl/duikstekken/de-baars
URL:https://quality-divers.nl/duikrooster/buitenduik-de-baars-ipv-training-in-zwembad/
LOCATION:De Baars\, Lage Wal\, Tilburg\, 5022\, Netherlands
CATEGORIES:Clubduik
END:VEVENT
BEGIN:VEVENT
DTSTART;TZID=Europe/Paris:20260709T200000
DTEND;TZID=Europe/Paris:20260709T210000
DTSTAMP:20260425T230808
CREATED:20260202T215741Z
LAST-MODIFIED:20260202T215742Z
UID:3750-1783627200-1783630800@quality-divers.nl
SUMMARY:Clubduik (AJP) ipv zwembadtraining
DESCRIPTION:Ter plaatse om 20:00 te water \nDuikleider: Huub \nKentering: 22:40 HW
URL:https://quality-divers.nl/duikrooster/clubduik-ajp-ipv-zwembadtraining/
LOCATION:Anna Jacobapolder (72)\, Rijksweg 5\, Sint Philipsland\, Zeeland\, 4675 RB\, Netherlands
CATEGORIES:Clubduik
END:VEVENT
BEGIN:VEVENT
DTSTART;TZID=Europe/Paris:20260827T200000
DTEND;TZID=Europe/Paris:20260827T210000
DTSTAMP:20260425T230808
CREATED:20260202T220002Z
LAST-MODIFIED:20260202T220002Z
UID:3752-1787860800-1787864400@quality-divers.nl
SUMMARY:Clubduik ipv zwembadtraining
DESCRIPTION:om 20:00 te water \nkentering: 22:18 LW \nDuikleider: Marice
URL:https://quality-divers.nl/duikrooster/clubduik-ipv-zwembadtraining/
LOCATION:Zoetersbout\, Zuidweg 6\, Bruinisse\, Zeeland\, 4311 RG\, Netherlands
CATEGORIES:Clubduik
END:VEVENT
END:VCALENDAR